BEGIN:VCALENDAR
VERSION:2.0
PRODID:-//Naked Madrid - ECPv5.2.1//NONSGML v1.0//EN
CALSCALE:GREGORIAN
METHOD:PUBLISH
X-WR-CALNAME:Naked Madrid
X-ORIGINAL-URL:https://www.nakedmadrid.com
X-WR-CALDESC:Events for Naked Madrid
BEGIN:VTIMEZONE
TZID:UTC
BEGIN:STANDARD
TZOFFSETFROM:+0000
TZOFFSETTO:+0000
TZNAME:UTC
DTSTART:20150101T000000
END:STANDARD
END:VTIMEZONE
BEGIN:VEVENT
DTSTART;TZID=UTC:20150128T100000
DTEND;TZID=UTC:20150201T200000
DTSTAMP:20260423T012155
CREATED:20141226T152804Z
LAST-MODIFIED:20141226T153259Z
UID:4888-1422439200-1422820800@www.nakedmadrid.com
SUMMARY:Fitur 2015: International Tourism Trade Fair
DESCRIPTION:Fitur is an International Tourism Fair that is hosted in Madrid every year. At this fair\, regions across the globe come to show off the wonderful things they have to offer. As a visitor\, you will travel around the world\, tasting different food and drinks without leaving the Spanish capital. \nIf possible\, we advise you to register beforehand or go during the week. To do so\, check out this link \nSchedule \n\nJanuary 28th\, 29th 30th………….10 am to 7 pm (Only companies and registered visitors)\nJanuary 31st…………………………..10 am to 8 pm\nFebruary 1st…………………………..10 am to 6 pm\n\nMetro Campo de las Naciones \n 
URL:https://www.nakedmadrid.com/event/fitur-2015-international-tourism-trade-fair/
LOCATION:IFEMA\, Avenida Partenón\, 5\, Madrid\, Madrid\, 28042\, Spain
CATEGORIES:Fair
ATTACH;FMTTYPE=image/jpeg:https://www.nakedmadrid.com/wp-content/uploads/2014/12/Fitur-e1418742170256.jpg
END:VEVENT
END:VCALENDAR