BEGIN:VCALENDAR
VERSION:2.0
PRODID:-//Naked Madrid - ECPv5.2.1//NONSGML v1.0//EN
CALSCALE:GREGORIAN
METHOD:PUBLISH
X-WR-CALNAME:Naked Madrid
X-ORIGINAL-URL:https://www.nakedmadrid.com
X-WR-CALDESC:Events for Naked Madrid
BEGIN:VTIMEZONE
TZID:UTC
BEGIN:STANDARD
TZOFFSETFROM:+0000
TZOFFSETTO:+0000
TZNAME:UTC
DTSTART:20140101T000000
END:STANDARD
END:VTIMEZONE
BEGIN:VEVENT
DTSTART;TZID=UTC:20141115T120000
DTEND;TZID=UTC:20141116T000000
DTSTAMP:20260423T024935
CREATED:20141113T233422Z
LAST-MODIFIED:20141113T233741Z
UID:4255-1416052800-1416096000@www.nakedmadrid.com
SUMMARY:Film & Cook -- a foodie film festival at La Cineteca in El Matadero
DESCRIPTION:If you enjoy food and film\, then this festival is for you. Film & Cook is taking place on Sat and Sun in El Matadero‘s very own theater\, La Cineteca. The festival will showcase movies related to gastronomy and food will be served along with each film! You can see the full list of movie times and showings as well as get tickets here. \n  \n  \n  \n 
URL:https://www.nakedmadrid.com/event/film-cook-a-foodie-film-festival-at-la-cineteca-en-el-matadero/
LOCATION:Matadero Madrid\, Paseo de la Chopera\, 14
CATEGORIES:Festivals,Film
ATTACH;FMTTYPE=image/jpeg:https://www.nakedmadrid.com/wp-content/uploads/2014/11/127019_description_entradas-film-cook-madrid-festival-cine-gastronomia-2014.jpg
END:VEVENT
END:VCALENDAR