BEGIN:VCALENDAR
VERSION:2.0
PRODID:-//Naked Madrid - ECPv5.2.1//NONSGML v1.0//EN
CALSCALE:GREGORIAN
METHOD:PUBLISH
X-WR-CALNAME:Naked Madrid
X-ORIGINAL-URL:https://www.nakedmadrid.com
X-WR-CALDESC:Events for Naked Madrid
BEGIN:VTIMEZONE
TZID:UTC
BEGIN:STANDARD
TZOFFSETFROM:+0000
TZOFFSETTO:+0000
TZNAME:UTC
DTSTART:20160101T000000
END:STANDARD
END:VTIMEZONE
BEGIN:VEVENT
DTSTART;TZID=UTC:20160227T110000
DTEND;TZID=UTC:20160228T200000
DTSTAMP:20260423T010307
CREATED:20160228T144557Z
LAST-MODIFIED:20160228T144557Z
UID:8759-1456570800-1456689600@www.nakedmadrid.com
SUMMARY:FaberMarket
DESCRIPTION:Still don’t have plans for this fine Sunday afternoon? Head over to FaberMarket‘s robotics\, virtual reality\, and creative design event presented by FaberTime and Heineken. Check out the most innovative designs happening within the technological world so you can be in tune with the latest techy trends!
URL:https://www.nakedmadrid.com/event/fabermarket/
LOCATION:Madrid Colegiata\, Calle Colegiata 9\, Madrid\, 28012\, Spain
CATEGORIES:Fair
ATTACH;FMTTYPE=image/jpeg:https://www.nakedmadrid.com/wp-content/uploads/2016/02/fabermarket_banner_160128_0-e1456670578977.jpg
END:VEVENT
END:VCALENDAR