BEGIN:VCALENDAR
VERSION:2.0
PRODID:-//Naked Madrid - ECPv5.2.1//NONSGML v1.0//EN
CALSCALE:GREGORIAN
METHOD:PUBLISH
X-WR-CALNAME:Naked Madrid
X-ORIGINAL-URL:https://www.nakedmadrid.com
X-WR-CALDESC:Events for Naked Madrid
BEGIN:VTIMEZONE
TZID:UTC
BEGIN:STANDARD
TZOFFSETFROM:+0000
TZOFFSETTO:+0000
TZNAME:UTC
DTSTART:20150101T000000
END:STANDARD
END:VTIMEZONE
BEGIN:VEVENT
DTSTART;TZID=UTC:20150304T203000
DTEND;TZID=UTC:20150304T220000
DTSTAMP:20260423T010619
CREATED:20150303T105021Z
LAST-MODIFIED:20150303T105218Z
UID:5995-1425501000-1425506400@www.nakedmadrid.com
SUMMARY:'El Secreto de las Mujeres' at Teatro Galileo
DESCRIPTION:One of Madrid’s most popular theaters\, Teatro Galileo\, is putting on a fabulous musical/play full of fantasy that intertwines monologues\, dance and music with typical scenes from both sitcoms and musicals. \nEnjoy El Secreto de las Mujeres every Wednesday at 8.30 p.m. until April 1st!
URL:https://www.nakedmadrid.com/event/el-secreto-de-las-mujeres-at-teatro-galileo/
LOCATION:Teatro Galileo\, Calle de Galileo\, 39\, Madrid\, 28015\, Spain
CATEGORIES:Theater & Micro-theater
ATTACH;FMTTYPE=image/jpeg:https://www.nakedmadrid.com/wp-content/uploads/2015/03/el-secreto-de-las-mujeres-el-musical-cartel-e1425300566710.jpg
END:VEVENT
END:VCALENDAR