BEGIN:VCALENDAR
VERSION:2.0
PRODID:-//Naked Madrid - ECPv5.2.1//NONSGML v1.0//EN
CALSCALE:GREGORIAN
METHOD:PUBLISH
X-WR-CALNAME:Naked Madrid
X-ORIGINAL-URL:https://www.nakedmadrid.com
X-WR-CALDESC:Events for Naked Madrid
BEGIN:VTIMEZONE
TZID:UTC
BEGIN:STANDARD
TZOFFSETFROM:+0000
TZOFFSETTO:+0000
TZNAME:UTC
DTSTART:20150101T000000
END:STANDARD
END:VTIMEZONE
BEGIN:VEVENT
DTSTART;TZID=UTC:20150531T213000
DTEND;TZID=UTC:20150601T030000
DTSTAMP:20260423T024904
CREATED:20150122T111514Z
LAST-MODIFIED:20150525T142559Z
UID:5242-1433107800-1433127600@www.nakedmadrid.com
SUMMARY:El Plaza Jazz Club\, Free Latin Jazz & Swing Jam
DESCRIPTION:El Plaza Jazz Club is a cozy bar located in the center of Madrid (near metro Plaza de España) where you can have a drink as you listen to live jazz\, latin and swing music. So check out their free jam session this Sunday night! \nPhoto from their Facebook page\n 
URL:https://www.nakedmadrid.com/event/el-plaza-jazz-club-free-latin-jazz-swing-jam/
LOCATION:El Plaza Jazz Club\, Martin de los Heros\, 3\, Madrid\, Spain
CATEGORIES:Drinks,music
ATTACH;FMTTYPE=image/jpeg:https://www.nakedmadrid.com/wp-content/uploads/2015/01/155448_301124733338487_2021928430_n-e1421920033823.jpg
END:VEVENT
END:VCALENDAR