BEGIN:VCALENDAR
VERSION:2.0
PRODID:-//Naked Madrid - ECPv5.2.1//NONSGML v1.0//EN
CALSCALE:GREGORIAN
METHOD:PUBLISH
X-WR-CALNAME:Naked Madrid
X-ORIGINAL-URL:https://www.nakedmadrid.com
X-WR-CALDESC:Events for Naked Madrid
BEGIN:VTIMEZONE
TZID:UTC
BEGIN:STANDARD
TZOFFSETFROM:+0000
TZOFFSETTO:+0000
TZNAME:UTC
DTSTART:20150101T000000
END:STANDARD
END:VTIMEZONE
BEGIN:VEVENT
DTSTART;VALUE=DATE:20150430
DTEND;VALUE=DATE:20150511
DTSTAMP:20260422T233403
CREATED:20150428T072040Z
LAST-MODIFIED:20150428T072040Z
UID:6610-1430352000-1431302399@www.nakedmadrid.com
SUMMARY:DocumentaMadrid – 12th International Festival of Spanish Documentary Films
DESCRIPTION:From the 30th of April to the 10th of May\, check out DocumentaMadrid – an international festival of Madrid documentary films. Get to watch more than 80 films in one of Madrid’s most prestigious cinemas — Cineteca in El Matadero Madrid (a former slaughterhouse turned cultural center). \nBuy your tickets here. \nHere’s a full post on the Matadero if you haven’t been!
URL:https://www.nakedmadrid.com/event/documentamadrid-12th-international-festival-of-spanish-documentary-films/
LOCATION:Matadero Madrid\, Paseo de la Chopera\, 14
CATEGORIES:Festivals,Film
ATTACH;FMTTYPE=image/jpeg:https://www.nakedmadrid.com/wp-content/uploads/2015/04/10614149_736829526392624_8428057431462101432_n-e1430161632109.jpg
END:VEVENT
END:VCALENDAR