BEGIN:VCALENDAR
VERSION:2.0
PRODID:-//Naked Madrid - ECPv5.2.1//NONSGML v1.0//EN
CALSCALE:GREGORIAN
METHOD:PUBLISH
X-WR-CALNAME:Naked Madrid
X-ORIGINAL-URL:https://www.nakedmadrid.com
X-WR-CALDESC:Events for Naked Madrid
BEGIN:VTIMEZONE
TZID:UTC
BEGIN:STANDARD
TZOFFSETFROM:+0000
TZOFFSETTO:+0000
TZNAME:UTC
DTSTART:20150101T000000
END:STANDARD
END:VTIMEZONE
BEGIN:VEVENT
DTSTART;VALUE=DATE:20150213
DTEND;VALUE=DATE:20150216
DTSTAMP:20260423T010626
CREATED:20150119T080208Z
LAST-MODIFIED:20150119T080208Z
UID:5196-1423785600-1424044799@www.nakedmadrid.com
SUMMARY:Diferente Market -- Valentine's Day Pop-up Market in Malasaña
DESCRIPTION:Madrid’s most popular blog — Madrid Diferente — is holding its second pop-up market from February 13th – 15th. It’ll be a special Valentines’ Day edition\, where you’ll find a myriad of stands on calle San Vicente Ferrer\, 33 in Malasaña all weekend long. \nIf you want to reserve a stand\, contact market@madriddiferente.com.
URL:https://www.nakedmadrid.com/event/diferente-market-valentines-day-pop-up-market-in-malasana/
LOCATION:Unnamed Venue\, Calle San Vicente Ferrer\, 33\, Madrid
CATEGORIES:Fair,Festivals,Markets
ATTACH;FMTTYPE=image/jpeg:https://www.nakedmadrid.com/wp-content/uploads/2015/01/10906427_832521640124905_1135484704088061674_n.jpg
END:VEVENT
END:VCALENDAR