BEGIN:VCALENDAR
VERSION:2.0
PRODID:-//Naked Madrid - ECPv5.2.1//NONSGML v1.0//EN
CALSCALE:GREGORIAN
METHOD:PUBLISH
X-WR-CALNAME:Naked Madrid
X-ORIGINAL-URL:https://www.nakedmadrid.com
X-WR-CALDESC:Events for Naked Madrid
BEGIN:VTIMEZONE
TZID:UTC
BEGIN:STANDARD
TZOFFSETFROM:+0000
TZOFFSETTO:+0000
TZNAME:UTC
DTSTART:20140101T000000
END:STANDARD
END:VTIMEZONE
BEGIN:VEVENT
DTSTART;TZID=UTC:20141218T080000
DTEND;TZID=UTC:20141221T170000
DTSTAMP:20260423T010627
CREATED:20141205T084953Z
LAST-MODIFIED:20141205T084953Z
UID:4699-1418889600-1419181200@www.nakedmadrid.com
SUMMARY:Diferente Market -- Christmas Pop-up Market in Malasaña
DESCRIPTION:Madrid’s most popular Spanish blog — Madrid Diferente — is breaking away from the internet for the first time to throw a Christmas pop-up market that will take place on December 11-14 and 18-21 in Malasaña. I expect it to be very cool…
URL:https://www.nakedmadrid.com/event/diferente-market-christmas-pop-up-market-in-malasana/
LOCATION:Diferente Market\, c/ San Vicente Ferrer\, 33\, Madrid
CATEGORIES:Markets
ATTACH;FMTTYPE=image/jpeg:https://www.nakedmadrid.com/wp-content/uploads/2014/11/10734165_800997013277368_433728827694143102_n.jpg
END:VEVENT
END:VCALENDAR