BEGIN:VCALENDAR
VERSION:2.0
PRODID:-//Naked Madrid - ECPv5.2.1//NONSGML v1.0//EN
CALSCALE:GREGORIAN
METHOD:PUBLISH
X-WR-CALNAME:Naked Madrid
X-ORIGINAL-URL:https://www.nakedmadrid.com
X-WR-CALDESC:Events for Naked Madrid
BEGIN:VTIMEZONE
TZID:UTC
BEGIN:STANDARD
TZOFFSETFROM:+0000
TZOFFSETTO:+0000
TZNAME:UTC
DTSTART:20150101T000000
END:STANDARD
END:VTIMEZONE
BEGIN:VEVENT
DTSTART;TZID=UTC:20150225T203000
DTEND;TZID=UTC:20150322T193000
DTSTAMP:20260423T010626
CREATED:20150303T104327Z
LAST-MODIFIED:20150303T104327Z
UID:5991-1424896200-1427052600@www.nakedmadrid.com
SUMMARY:'Como si pasara un tren' in the Small Hall of Teatro Español
DESCRIPTION:In March\, your can see the play ‘Como si pasara un tren’ at the Small Hall of the Teatro Español. \nThe play is about a mother and son\, Susana and Juan\, who live in a small town. Susana struggles to raise Juan on her own since his father left. Things start to change following the arrival of Valeria\, an adolescent and Susana’s niece. The young girl was sent to her aunt’s house after her mother found a joint in her stuff. \nWhen can you enjoy this comedy drama? \nTuesdays to Saturdays – 8:30 p.m. \nSundays – 7:30 p.m. \nGet a 25% discount on Thursdays.
URL:https://www.nakedmadrid.com/event/como-si-pasara-un-tren-in-the-small-hall-of-teatro-espanol/
LOCATION:Teatro Español\, Calle del Principe\, 25\, Madrid\, 28012\, Spain
CATEGORIES:Theater & Micro-theater
ATTACH;FMTTYPE=image/jpeg:https://www.nakedmadrid.com/wp-content/uploads/2015/03/como-si-pasara-nuevo-web-e1425297570379.jpg
END:VEVENT
END:VCALENDAR