BEGIN:VCALENDAR
VERSION:2.0
PRODID:-//Naked Madrid - ECPv5.2.1//NONSGML v1.0//EN
CALSCALE:GREGORIAN
METHOD:PUBLISH
X-WR-CALNAME:Naked Madrid
X-ORIGINAL-URL:https://www.nakedmadrid.com
X-WR-CALDESC:Events for Naked Madrid
BEGIN:VTIMEZONE
TZID:UTC
BEGIN:STANDARD
TZOFFSETFROM:+0000
TZOFFSETTO:+0000
TZNAME:UTC
DTSTART:20140101T000000
END:STANDARD
END:VTIMEZONE
BEGIN:VEVENT
DTSTART;TZID=UTC:20141030T220000
DTEND;TZID=UTC:20141031T013000
DTSTAMP:20260422T234915
CREATED:20141019T105711Z
LAST-MODIFIED:20141023T090251Z
UID:3959-1414706400-1414719000@www.nakedmadrid.com
SUMMARY:Comedy Super Team\, Go! at Ancora by Ace Comedy Factory
DESCRIPTION:Ace Comedy Factory is an English-language comedy group that holds monthly open-mic comedy showdowns at Triskel Tavern. On top of that\, the group holds an event called Comedy Super Team\, Go! — a best of showcase with guest artists\, held every two months or so. You’ll be able to see this super team at its best on October 30th at Ancora Madrid. \nWho’ll  be on stage? \nMembers Archie Bezos (Funniest Festival Internacional de la Comedia winner)\, Rusty Birdwell and Joshua Saxon will be joined by special guest Kirk Bonacci (Florida comedy circuit regular). \nEvent Details\nWhen: October 30th at 10 p.m. \nTickets: 5€ each (cash only) at the door. Reserve yours at www.acecomedyfactory.com \nMore info: Join the event page\, invite your friends and get ready for an awesome evening of comedy. \nAlso check out our article: “Madrid’s Action-packed English-language Comedy Scene in Madrid!”
URL:https://www.nakedmadrid.com/event/comedy-super-team-stand-up-at-ancora-by-ace-comedy-factory/
LOCATION:Ancora Madrid\, Calle Trafalgar\, 6\, Madrid
CATEGORIES:Comedy,Games
ATTACH;FMTTYPE=image/jpeg:https://www.nakedmadrid.com/wp-content/uploads/2014/10/10713016_1572936506268190_4646750159382644434_n.jpg
END:VEVENT
END:VCALENDAR