BEGIN:VCALENDAR
VERSION:2.0
PRODID:-//Naked Madrid - ECPv5.2.1//NONSGML v1.0//EN
CALSCALE:GREGORIAN
METHOD:PUBLISH
X-WR-CALNAME:Naked Madrid
X-ORIGINAL-URL:https://www.nakedmadrid.com
X-WR-CALDESC:Events for Naked Madrid
BEGIN:VTIMEZONE
TZID:UTC
BEGIN:STANDARD
TZOFFSETFROM:+0000
TZOFFSETTO:+0000
TZNAME:UTC
DTSTART:20160101T000000
END:STANDARD
END:VTIMEZONE
BEGIN:VEVENT
DTSTART;VALUE=DATE:20160422
DTEND;VALUE=DATE:20160425
DTSTAMP:20260423T004505
CREATED:20160414T104836Z
LAST-MODIFIED:20160414T104836Z
UID:9030-1461283200-1461542399@www.nakedmadrid.com
SUMMARY:Ciento y Pico Market Spring Edition
DESCRIPTION:Ciento y Pico Market presents its Spring edition of the fashion\, art and decoration event. Explore the latest trends of the spring so you know how to dress and what colors and designs to decorate your home with! This three day event is sure to get you into the springtime vibes!
URL:https://www.nakedmadrid.com/event/ciento-y-pico-market-spring-edition/
LOCATION:Ciento y pico Market\, Velarde\, 14\, Madrid\, Madrid\, 28004\, Spain
CATEGORIES:art,Fair,Markets
ATTACH;FMTTYPE=image/jpeg:https://www.nakedmadrid.com/wp-content/uploads/2016/04/ciento-y-pico-spring-e1460630709243.jpg
END:VEVENT
END:VCALENDAR