BEGIN:VCALENDAR
VERSION:2.0
PRODID:-//Naked Madrid - ECPv5.2.1//NONSGML v1.0//EN
CALSCALE:GREGORIAN
METHOD:PUBLISH
X-WR-CALNAME:Naked Madrid
X-ORIGINAL-URL:https://www.nakedmadrid.com
X-WR-CALDESC:Events for Naked Madrid
BEGIN:VTIMEZONE
TZID:UTC
BEGIN:STANDARD
TZOFFSETFROM:+0000
TZOFFSETTO:+0000
TZNAME:UTC
DTSTART:20150101T000000
END:STANDARD
END:VTIMEZONE
BEGIN:VEVENT
DTSTART;TZID=UTC:20150227T170000
DTEND;TZID=UTC:20150228T210000
DTSTAMP:20260423T010512
CREATED:20150227T074928Z
LAST-MODIFIED:20150302T171603Z
UID:5871-1425056400-1425157200@www.nakedmadrid.com
SUMMARY:Chueca 108 Creative Festival - Art + Design + Gastronomy
DESCRIPTION:Madrid’s liveliest central neighborhood–Chueca–is holding a new festival to showcase creative talent in art\, design and gastronomy. The event is called Chueca 108 and set to happen every month. So have a look at their full program! \nAlso check out our article about: La Buena Cerveza\, one of the festival’s participants.
URL:https://www.nakedmadrid.com/event/chueca-creative-festival-art-design-gastronomy/
LOCATION:Chueca\, Madrid\, Spain
CATEGORIES:art,Drinks,exhibit,Festivals,Food,Games,Markets,Tastings,Workshops
ATTACH;FMTTYPE=image/jpeg:https://www.nakedmadrid.com/wp-content/uploads/2015/02/chueca-108-27-28-febrero-2015.jpg
END:VEVENT
END:VCALENDAR