BEGIN:VCALENDAR
VERSION:2.0
PRODID:-//Naked Madrid - ECPv5.2.1//NONSGML v1.0//EN
CALSCALE:GREGORIAN
METHOD:PUBLISH
X-WR-CALNAME:Naked Madrid
X-ORIGINAL-URL:https://www.nakedmadrid.com
X-WR-CALDESC:Events for Naked Madrid
BEGIN:VTIMEZONE
TZID:UTC
BEGIN:STANDARD
TZOFFSETFROM:+0000
TZOFFSETTO:+0000
TZNAME:UTC
DTSTART:20150101T000000
END:STANDARD
END:VTIMEZONE
BEGIN:VEVENT
DTSTART;TZID=UTC:20151222T200000
DTEND;TZID=UTC:20151222T220000
DTSTAMP:20260423T030612
CREATED:20151221T133308Z
LAST-MODIFIED:20151221T133308Z
UID:8284-1450814400-1450821600@www.nakedmadrid.com
SUMMARY:Christmas Party at Desperate Literature – "the more eggnog\, the better"
DESCRIPTION:Join the guys at Desperate Literature for carols and eggnog to see the year out with a bit of tipsy class.  Songs will be led by Elena Christina Novak\, and remember\, the singing gets better the more eggnog you drink – it’s magic like that. \nIf you fancy practicing a little\, the following classics will be represented: Jingle Bells; Deck the Halls; God Rest Ye Merry Gentlemen; O Holy Night; Joy to the World; Silent Night; We Wish You a Merry Christmas. \nHere’s the FB event page
URL:https://www.nakedmadrid.com/event/christmas-party-at-desperate-literature-the-more-eggnog-the-better/
LOCATION:Desperate Literature\, c/ Campomanes 13\, Madrid
CATEGORIES:Books,Drinks
ATTACH;FMTTYPE=image/jpeg:https://www.nakedmadrid.com/wp-content/uploads/2015/12/Christmas-party-at-Desperate-Literature.jpg
END:VEVENT
END:VCALENDAR