BEGIN:VCALENDAR
VERSION:2.0
PRODID:-//Naked Madrid - ECPv5.2.1//NONSGML v1.0//EN
CALSCALE:GREGORIAN
METHOD:PUBLISH
X-WR-CALNAME:Naked Madrid
X-ORIGINAL-URL:https://www.nakedmadrid.com
X-WR-CALDESC:Events for Naked Madrid
BEGIN:VTIMEZONE
TZID:UTC
BEGIN:STANDARD
TZOFFSETFROM:+0000
TZOFFSETTO:+0000
TZNAME:UTC
DTSTART:20140101T000000
END:STANDARD
END:VTIMEZONE
BEGIN:VEVENT
DTSTART;VALUE=DATE:20141008
DTEND;VALUE=DATE:20141013
DTSTAMP:20260422T235200
CREATED:20141009T080836Z
LAST-MODIFIED:20141009T084756Z
UID:3844-1412726400-1413158399@www.nakedmadrid.com
SUMMARY:Cervantes Festival in Alcalá de Henares: Mercado Cervantino 2014
DESCRIPTION:El Mercado Cervantino is an annual medieval fair in Alcalá de Henares\, the home of Cervantes himself. Ever year\, this small city dresses up in medieval decorations and garments\, and the streets are filled with markets\, street performances\, artisan workshops and much more! Festival activities run from 11am to 2am\, and take place in and around Calle Mayor. Only a half hour from the center of Madrid by Cercanías\, here’s a link on how to get to Alcalá. \nAlso check out this post by Gee\, Cassandra: “A Medieval Fair to Make Cervantes Proud” \nEnjoy! \n 
URL:https://www.nakedmadrid.com/event/cervantes-festival-in-alcala-de-henares-mercado-cervantino-2014/
LOCATION:Alcalá de Henares\, Calle Mayor\, Alcalá de Henares\, 28801
CATEGORIES:Festivals,Markets
ATTACH;FMTTYPE=image/jpeg:https://www.nakedmadrid.com/wp-content/uploads/2014/10/Mercado-Cervantino.jpg
END:VEVENT
END:VCALENDAR