BEGIN:VCALENDAR
VERSION:2.0
PRODID:-//Naked Madrid - ECPv5.2.1//NONSGML v1.0//EN
CALSCALE:GREGORIAN
METHOD:PUBLISH
X-WR-CALNAME:Naked Madrid
X-ORIGINAL-URL:https://www.nakedmadrid.com
X-WR-CALDESC:Events for Naked Madrid
BEGIN:VTIMEZONE
TZID:UTC
BEGIN:STANDARD
TZOFFSETFROM:+0000
TZOFFSETTO:+0000
TZNAME:UTC
DTSTART:20160101T000000
END:STANDARD
END:VTIMEZONE
BEGIN:VEVENT
DTSTART;TZID=UTC:20160203T203000
DTEND;TZID=UTC:20160203T220000
DTSTAMP:20260424T110149
CREATED:20160202T132440Z
LAST-MODIFIED:20160202T150859Z
UID:8492-1454531400-1454536800@www.nakedmadrid.com
SUMMARY:British Shorts: Ten. Ten. Ten.
DESCRIPTION:British Shorts is a new theatre company made up of all native English professional actors on a mission to provide Madrid with good quality short and one-act plays in English. Their first micro-theatre production\, ‘Ten.Ten.Ten‘\, was running at El Escondite in La Latina throughout January and due to its success\, it’s now been extended to February as well. You can come watch them perform every Wednesday this month at 8:30pm\, 9pm and 9:30pm. Tickets cost €4.50. \n  \n 
URL:https://www.nakedmadrid.com/event/british-shorts-ten-ten-ten/
LOCATION:El Esconditeatro\, c/ estudios\, 2\, Madrid\, 28005\, Spain
CATEGORIES:art,Theater & Micro-theater
ATTACH;FMTTYPE=image/jpeg:https://www.nakedmadrid.com/wp-content/uploads/2016/02/Ten.Ten_.Ten_..jpeg
END:VEVENT
END:VCALENDAR