BEGIN:VCALENDAR
VERSION:2.0
PRODID:-//Naked Madrid - ECPv5.2.1//NONSGML v1.0//EN
CALSCALE:GREGORIAN
METHOD:PUBLISH
X-WR-CALNAME:Naked Madrid
X-ORIGINAL-URL:https://www.nakedmadrid.com
X-WR-CALDESC:Events for Naked Madrid
BEGIN:VTIMEZONE
TZID:UTC
BEGIN:STANDARD
TZOFFSETFROM:+0000
TZOFFSETTO:+0000
TZNAME:UTC
DTSTART:20150101T000000
END:STANDARD
END:VTIMEZONE
BEGIN:VEVENT
DTSTART;TZID=UTC:20150605T110000
DTEND;TZID=UTC:20150607T220000
DTSTAMP:20260423T010624
CREATED:20150601T090252Z
LAST-MODIFIED:20150602T074610Z
UID:6964-1433502000-1433714400@www.nakedmadrid.com
SUMMARY:Bollymadrid 2015 – 3-Day Bollywood Festival in Lavapiés!!
DESCRIPTION:The whole neighborhood of Lavapiés is turning into a open-air Bollywood and Indian cultural festival from June 5 – 7. The main plaza gets filled with Indian food stalls selling Cobra beer\, curry\, lassis\, mimosas… and just a two-minute walk away\, at Plaza Agustin Lara\, there’ll be non-stop Bollywood music\, film and dance performances on stage! \nHere’s the whole schedule so you can take a look:\nBollyMadrid 2015 Schedule \nFacebook \n  \n 
URL:https://www.nakedmadrid.com/event/bollymadrid-2015-3-day-bollywood-festival-in-lavapies/
LOCATION:Lavapiés
CATEGORIES:Drinks,Fair,Festivals,Food,Markets,music
ATTACH;FMTTYPE=image/jpeg:https://www.nakedmadrid.com/wp-content/uploads/2015/06/11225449_1151517728207110_692096486952698648_n.jpg
END:VEVENT
END:VCALENDAR