BEGIN:VCALENDAR
VERSION:2.0
PRODID:-//Naked Madrid - ECPv5.2.1//NONSGML v1.0//EN
CALSCALE:GREGORIAN
METHOD:PUBLISH
X-WR-CALNAME:Naked Madrid
X-ORIGINAL-URL:https://www.nakedmadrid.com
X-WR-CALDESC:Events for Naked Madrid
BEGIN:VTIMEZONE
TZID:UTC
BEGIN:STANDARD
TZOFFSETFROM:+0000
TZOFFSETTO:+0000
TZNAME:UTC
DTSTART:20150101T000000
END:STANDARD
END:VTIMEZONE
BEGIN:VEVENT
DTSTART;VALUE=DATE:20150925
DTEND;VALUE=DATE:20150928
DTSTAMP:20260422T234806
CREATED:20150915T085129Z
LAST-MODIFIED:20150915T090628Z
UID:7584-1443139200-1443398399@www.nakedmadrid.com
SUMMARY:Big Food Event at Matadero Madrid!
DESCRIPTION:Calling on all foodies and lovers of design! Mark down September 25-27 in your calendars because you’re going to have a whole lot to see and taste. Madrid’s Matadero will be celebrating the first edition of BIG FOOD\, an event that highlights the relationship between design and gastronomy\, thanks to the work of chefs and designs teams of all kinds. You won’t to miss this! \nBehind this concept is DIMAD (Asociación Diseñadores de Madrid)\, with its program: di_food (that organizes gastronomy-inspired exhibits\, courses\, talks and more) and oopen estudio de diseño estratégico. \nHere’s the event page \n#BigFoodMad #BigFood #gastronomia #diseño
URL:https://www.nakedmadrid.com/event/big-food-event-at-matadero-madrid/
LOCATION:Matadero Madrid\, Paseo de la Chopera\, 14
CATEGORIES:art,Fair,Festivals,Food,Markets
ATTACH;FMTTYPE=image/jpeg:https://www.nakedmadrid.com/wp-content/uploads/2015/09/Big-Food-Matadero-Event-in-Madrid.jpg
END:VEVENT
END:VCALENDAR