BEGIN:VCALENDAR
VERSION:2.0
PRODID:-//Naked Madrid - ECPv5.2.1//NONSGML v1.0//EN
CALSCALE:GREGORIAN
METHOD:PUBLISH
X-WR-CALNAME:Naked Madrid
X-ORIGINAL-URL:https://www.nakedmadrid.com
X-WR-CALDESC:Events for Naked Madrid
BEGIN:VTIMEZONE
TZID:UTC
BEGIN:STANDARD
TZOFFSETFROM:+0000
TZOFFSETTO:+0000
TZNAME:UTC
DTSTART:20140101T000000
END:STANDARD
END:VTIMEZONE
BEGIN:VEVENT
DTSTART;TZID=UTC:20141113T210000
DTEND;TZID=UTC:20141113T230000
DTSTAMP:20260423T010619
CREATED:20141112T171449Z
LAST-MODIFIED:20141112T171449Z
UID:4226-1415912400-1415919600@www.nakedmadrid.com
SUMMARY:BEERLINGUAL\, FREE INTERNATIONAL PUB QUIZ IN LA LATINA!
DESCRIPTION:Beerlingual is a free\, international pub quiz held every Thursday night from 9pm-11pm at Cervecería La Espuma in La Latina (c/ Arganzuela\, 1). This fun event brings locals and visitors from around the world together to meet new people\, make friends\, practice languages\, win prizes and have a good time. The event is run by the “Quiz Master” who asks questions in both English and Spanish so it’s not necessary to be bilingual to attend. The questions will cover popular culture\, tourism\, music\, cinema\, and an array of other topics. The winners will be awarded prizes! \nYou’ll also find great offers on beer\, drinks and cocktails. The game then continues online at www.Facebook.com/Spanglish.Madrid and questions can be directed to madrid@spanglishexchange.com See you at Beerlingual! \nCheck out our full post — “Beerlingual\, a fun spin on a Thursday night” —  for more info.
URL:https://www.nakedmadrid.com/event/beerlingual-free-international-pub-quiz-in-la-latina/
LOCATION:Cervecería Espuma\, Calle Arganzuela 1\, Madrid
CATEGORIES:Drinks,Games
ATTACH;FMTTYPE=image/jpeg:https://www.nakedmadrid.com/wp-content/uploads/2014/03/1395109_588330351221578_821385414_n.jpg
END:VEVENT
END:VCALENDAR