BEGIN:VCALENDAR
VERSION:2.0
PRODID:-//Naked Madrid - ECPv5.2.1//NONSGML v1.0//EN
CALSCALE:GREGORIAN
METHOD:PUBLISH
X-WR-CALNAME:Naked Madrid
X-ORIGINAL-URL:https://www.nakedmadrid.com
X-WR-CALDESC:Events for Naked Madrid
BEGIN:VTIMEZONE
TZID:UTC
BEGIN:STANDARD
TZOFFSETFROM:+0000
TZOFFSETTO:+0000
TZNAME:UTC
DTSTART:20150101T000000
END:STANDARD
END:VTIMEZONE
BEGIN:VEVENT
DTSTART;TZID=UTC:20150116T203000
DTEND;TZID=UTC:20150116T223000
DTSTAMP:20260423T024751
CREATED:20141009T213415Z
LAST-MODIFIED:20150108T183958Z
UID:3864-1421440200-1421447400@www.nakedmadrid.com
SUMMARY:Spanish Craft Beer Tasting at La Buena Cerveza
DESCRIPTION:On Friday\, Jan. 16th\, get ready for an international craft beer tasting at La Buena Cerveza\, our favourite beer shop in Chueca. This 2-hour tasting costs 15€ per person. You’ll end up a bit tipsy\, but don’t worry\, as tapas are served with every round. This is also a good way to learn some new Spanish vocabulary — do you know how to say wheat\, malt and hops? \nAlso check out our full post on this shop: La Buena Cerveza: all things beer. \n 
URL:https://www.nakedmadrid.com/event/beer-tasting-at-la-buena-cerveza/
LOCATION:La Buena Cerveza\, Calle Pelayo 5\, Madrid\, Madrid\, 28007\, Spain
CATEGORIES:Drinks
ATTACH;FMTTYPE=image/jpeg:https://www.nakedmadrid.com/wp-content/uploads/2014/10/Cata-La-buena-cerveza.jpg
ORGANIZER;CN="La%20Buena%20Cerveza":MAILTO:tienda@labuenacerveza.com
END:VEVENT
END:VCALENDAR