BEGIN:VCALENDAR
VERSION:2.0
PRODID:-//Naked Madrid - ECPv5.2.1//NONSGML v1.0//EN
CALSCALE:GREGORIAN
METHOD:PUBLISH
X-WR-CALNAME:Naked Madrid
X-ORIGINAL-URL:https://www.nakedmadrid.com
X-WR-CALDESC:Events for Naked Madrid
BEGIN:VTIMEZONE
TZID:UTC
BEGIN:STANDARD
TZOFFSETFROM:+0000
TZOFFSETTO:+0000
TZNAME:UTC
DTSTART:20160101T000000
END:STANDARD
END:VTIMEZONE
BEGIN:VEVENT
DTSTART;VALUE=DATE:20160225
DTEND;VALUE=DATE:20160229
DTSTAMP:20260423T004653
CREATED:20160218T134857Z
LAST-MODIFIED:20160218T134925Z
UID:8622-1456358400-1456703999@www.nakedmadrid.com
SUMMARY:Beer Festival in Palacio Vistalegre!
DESCRIPTION:With an array of brews\, this Beer Festival in Palacio Vistalegre February 25-26 and March 3-6 will blow you away! Designed to be family friendly and accompanied by live music\, a global variety of meat and a playground for the kids\, this festival is open to all. All people and all ale from Irish reds to Belgian blondes\, Mexican pales and more. Though limited\, admission is free and all children under the age of 18 must be accompanied by an adult and abstain from consuming alcohol\, other options will be available. \nThe festival is open from 7:30pm – 12am on Thursdays and Fridays\, 12pm – 5pm on Saturdays and 12pm – 10pm on Sundays. \nLocated in Palacio Vistalegre Arena on Calle Matilde Hernández\, the nearest metro station is Vistalegre \nLike their Facebook page
URL:https://www.nakedmadrid.com/event/beer-festival-in-palacio-vistalegre/
LOCATION:Palacio Vistalegre Arena\, Calle Matilde Hernández\, Madrid\, Spain
CATEGORIES:Drinks,Fair,Festivals,Food,Markets,music,Tastings
ATTACH;FMTTYPE=image/jpeg:https://www.nakedmadrid.com/wp-content/uploads/2016/02/feria-cerveza-madrid.jpg
END:VEVENT
END:VCALENDAR