BEGIN:VCALENDAR
VERSION:2.0
PRODID:-//Naked Madrid - ECPv5.2.1//NONSGML v1.0//EN
CALSCALE:GREGORIAN
METHOD:PUBLISH
X-WR-CALNAME:Naked Madrid
X-ORIGINAL-URL:https://www.nakedmadrid.com
X-WR-CALDESC:Events for Naked Madrid
BEGIN:VTIMEZONE
TZID:UTC
BEGIN:STANDARD
TZOFFSETFROM:+0000
TZOFFSETTO:+0000
TZNAME:UTC
DTSTART:20150101T000000
END:STANDARD
END:VTIMEZONE
BEGIN:VEVENT
DTSTART;TZID=UTC:20150311T210000
DTEND;TZID=UTC:20150311T223000
DTSTAMP:20260422T233713
CREATED:20150210T114131Z
LAST-MODIFIED:20150317T103513Z
UID:5650-1426107600-1426113000@www.nakedmadrid.com
SUMMARY:Award-winning Microtheater Performance at Lambuzo
DESCRIPTION:From now until March 11th\, you can see an award-winning Spanish mico-theater performance called ‘Always On My Mind’ (named after the Elvis Presley song) every Wednesday night at Bar Lambuzo\, one of our favorite spots in the city. The twenty-minute performance takes place in the downstairs wine cellar of this Andalusian tavern near metros Santo Domingo\, Opera and Sol. You can reserve your ticket on Lambuzo’s Facebook page for 9pm\, 9:30pm or 10pm\, for 5€. And best of all\, you can grab a drink at the bar upstairs and bring it down with you for the show! \nHere’s a short video to give you an idea of what the show is about.
URL:https://www.nakedmadrid.com/event/award-winning-microtheater-performance-at-lambuzo/
LOCATION:Bar Lambuzo\, Calle de las Conchas\, 9\, Madrid
CATEGORIES:art,Theater & Micro-theater
ATTACH;FMTTYPE=image/jpeg:https://www.nakedmadrid.com/wp-content/uploads/2015/02/10421272_848157425243127_1172317091636394593_n-e1423567865685.jpg
END:VEVENT
END:VCALENDAR