BEGIN:VCALENDAR
VERSION:2.0
PRODID:-//Naked Madrid - ECPv5.2.1//NONSGML v1.0//EN
CALSCALE:GREGORIAN
METHOD:PUBLISH
X-WR-CALNAME:Naked Madrid
X-ORIGINAL-URL:https://www.nakedmadrid.com
X-WR-CALDESC:Events for Naked Madrid
BEGIN:VTIMEZONE
TZID:UTC
BEGIN:STANDARD
TZOFFSETFROM:+0000
TZOFFSETTO:+0000
TZNAME:UTC
DTSTART:20150101T000000
END:STANDARD
END:VTIMEZONE
BEGIN:VEVENT
DTSTART;TZID=UTC:20150227T120000
DTEND;TZID=UTC:20150301T200000
DTSTAMP:20260423T024729
CREATED:20150227T074701Z
LAST-MODIFIED:20150227T083230Z
UID:5920-1425038400-1425240000@www.nakedmadrid.com
SUMMARY:ARCOmadrid\, International Contemporary Art Fair
DESCRIPTION:This weekend\, the International Contemporary Art Fair–ARCOmadrid–is holding its 34th edition at IFEMA\, bringing together the most important figures in the world’s current art scene. \nWhen:  \nFriday 27\, Saturday 28 and Sunday 1 \n12 pm—8 pm
URL:https://www.nakedmadrid.com/event/arcomadrid-international-contemporary-art-fair/
LOCATION:IFEMA\, Avenida Partenón\, 5\, Madrid\, Madrid\, 28042\, Spain
CATEGORIES:art,exhibit,Fair
ATTACH;FMTTYPE=image/jpeg:https://www.nakedmadrid.com/wp-content/uploads/2015/02/3e6512b30939d91cb0f730777cdd033f.jpg
END:VEVENT
END:VCALENDAR