BEGIN:VCALENDAR
VERSION:2.0
PRODID:-//Naked Madrid - ECPv5.2.1//NONSGML v1.0//EN
CALSCALE:GREGORIAN
METHOD:PUBLISH
X-WR-CALNAME:Naked Madrid
X-ORIGINAL-URL:https://www.nakedmadrid.com
X-WR-CALDESC:Events for Naked Madrid
BEGIN:VTIMEZONE
TZID:UTC
BEGIN:STANDARD
TZOFFSETFROM:+0000
TZOFFSETTO:+0000
TZNAME:UTC
DTSTART:20140101T000000
END:STANDARD
END:VTIMEZONE
BEGIN:VEVENT
DTSTART;TZID=UTC:20141024T203000
DTEND;TZID=UTC:20141024T223000
DTSTAMP:20260423T042821
CREATED:20141019T112652Z
LAST-MODIFIED:20141019T223049Z
UID:3969-1414182600-1414189800@www.nakedmadrid.com
SUMMARY:An evening with award-winning Scottish comedienne Janey Godley -- Referendum Special
DESCRIPTION:Don’t miss out on the chance to see Scotland’s multiple award winning comedienne — Janey Godley — give her comedic take on the Scottish Referendum. She’s coming to Madrid for the International Comedy Festival on October 24th and will be performing at Teatro Alfil in Malasaña at 8:30 p.m. \nGet your tickets here and enter the code — NAKED — for a 5€ discount! \n(Tickets cost 18€\, and only 13€ with naked madrid discount) \n 
URL:https://www.nakedmadrid.com/event/an-evening-with-award-winning-scottish-comedienne-jane-godley-referendum-special/
LOCATION:Teatro Alfil\, C/ Pez\, 10\, Madrid
CATEGORIES:Comedy,Festivals
ATTACH;FMTTYPE=image/jpeg:https://www.nakedmadrid.com/wp-content/uploads/2014/10/10481703_10204922600854910_5216301307520698111_n.jpg
END:VEVENT
END:VCALENDAR