BEGIN:VCALENDAR
VERSION:2.0
PRODID:-//Naked Madrid - ECPv5.2.1//NONSGML v1.0//EN
CALSCALE:GREGORIAN
METHOD:PUBLISH
X-WR-CALNAME:Naked Madrid
X-ORIGINAL-URL:https://www.nakedmadrid.com
X-WR-CALDESC:Events for Naked Madrid
BEGIN:VTIMEZONE
TZID:UTC
BEGIN:STANDARD
TZOFFSETFROM:+0000
TZOFFSETTO:+0000
TZNAME:UTC
DTSTART:20150101T000000
END:STANDARD
END:VTIMEZONE
BEGIN:VEVENT
DTSTART;TZID=UTC:20150301T190000
DTEND;TZID=UTC:20150401T000000
DTSTAMP:20260423T012232
CREATED:20150227T075030Z
LAST-MODIFIED:20150227T105011Z
UID:5758-1425236400-1427846400@www.nakedmadrid.com
SUMMARY:Ajo Fernandez Photography Exhibit in Malasaña
DESCRIPTION:Check out Ajo Fernández’ photography exhibit while having dinner at Nanai Restaurante (in Malasaña) during the whole month of March. Let yourself be enchanted by these amazing pictures of incredible landscapes. \nWhen: \nMondays – 07:00 p.m. – 12:00 a.m. \nTuesdays to Fridays – 06:00 p.m. – 02:00 a.m. \nSaturdays and holidays – 02:00 p.m. – 02:00 a.m. \nSundays – 05:00 p.m. – 12:00 a.m.
URL:https://www.nakedmadrid.com/event/ajo-fernandez-photography-exhibit-in-malasana/
LOCATION:Nanai Restaurante\, Calle Barco\, 26\, Madrid \, Spain
CATEGORIES:photography
ATTACH;FMTTYPE=image/jpeg:https://www.nakedmadrid.com/wp-content/uploads/2015/02/cartel-1-e1424911367835.jpg
END:VEVENT
END:VCALENDAR