BEGIN:VCALENDAR
VERSION:2.0
PRODID:-//Naked Madrid - ECPv5.2.1//NONSGML v1.0//EN
CALSCALE:GREGORIAN
METHOD:PUBLISH
X-WR-CALNAME:Naked Madrid
X-ORIGINAL-URL:https://www.nakedmadrid.com
X-WR-CALDESC:Events for Naked Madrid
BEGIN:VTIMEZONE
TZID:UTC
BEGIN:STANDARD
TZOFFSETFROM:+0000
TZOFFSETTO:+0000
TZNAME:UTC
DTSTART:20140101T000000
END:STANDARD
END:VTIMEZONE
BEGIN:VEVENT
DTSTART;TZID=UTC:20141115T110000
DTEND;TZID=UTC:20141115T200000
DTSTAMP:20260423T010621
CREATED:20141112T170316Z
LAST-MODIFIED:20141112T171035Z
UID:4219-1416049200-1416081600@www.nakedmadrid.com
SUMMARY:Adelita Market\, great second-hand clothing market in Malasaña
DESCRIPTION:Adelita Market is a monthly flea market that takes place at a cultural center in Malasaña called Espiritu 23 (named after its address\, c/ Espiritu Santo 23). You’ll mostly find clothes\, jewellery and accessories\, but you may end up landing on other treasures too. It’s a great Saturday plan — it’s free and in Malasaña\, meaning you can grab a beer at any nearby cafe afterwards. \nI particularly love this flea market as I always find great items and even got my own stand there once (here’s a full article on Adelita Market).
URL:https://www.nakedmadrid.com/event/adelita-market-great-second-hand-market-in-malasana/
LOCATION:Espiritu 23\, c/ Espiritu Santo 23\, Madrid\, Spain
CATEGORIES:Markets
ATTACH;FMTTYPE=image/jpeg:https://www.nakedmadrid.com/wp-content/uploads/2014/11/10542856_754046854651216_3990796004103737271_n.jpg
END:VEVENT
END:VCALENDAR