BEGIN:VCALENDAR
VERSION:2.0
PRODID:-//Naked Madrid - ECPv5.2.1//NONSGML v1.0//EN
CALSCALE:GREGORIAN
METHOD:PUBLISH
X-WR-CALNAME:Naked Madrid
X-ORIGINAL-URL:https://www.nakedmadrid.com
X-WR-CALDESC:Events for Naked Madrid
BEGIN:VTIMEZONE
TZID:UTC
BEGIN:STANDARD
TZOFFSETFROM:+0000
TZOFFSETTO:+0000
TZNAME:UTC
DTSTART:20150101T000000
END:STANDARD
END:VTIMEZONE
BEGIN:VEVENT
DTSTART;TZID=UTC:20150227T100000
DTEND;TZID=UTC:20150301T200000
DTSTAMP:20260422T233645
CREATED:20150227T075932Z
LAST-MODIFIED:20150227T080134Z
UID:5939-1425031200-1425240000@www.nakedmadrid.com
SUMMARY:Abello Collection at Palacio de Cibeles
DESCRIPTION:You have until March 1st to see the Abello collection being held at Palacio de Cibeles (on the first floor). General admission costs 6€ and we’ve heard it’s excellent. \n  \n 
URL:https://www.nakedmadrid.com/event/abello-collection-at-palacio-de-cibeles/
LOCATION:Palacio de Cibeles\, Plaza de Cibeles\, 1\, Madrid
CATEGORIES:art,exhibit
ATTACH;FMTTYPE=image/jpeg:https://www.nakedmadrid.com/wp-content/uploads/2015/02/Abelló_ficha.jpg
END:VEVENT
END:VCALENDAR