BEGIN:VCALENDAR
VERSION:2.0
PRODID:-//Naked Madrid - ECPv5.2.1//NONSGML v1.0//EN
CALSCALE:GREGORIAN
METHOD:PUBLISH
X-WR-CALNAME:Naked Madrid
X-ORIGINAL-URL:https://www.nakedmadrid.com
X-WR-CALDESC:Events for Naked Madrid
BEGIN:VTIMEZONE
TZID:UTC
BEGIN:STANDARD
TZOFFSETFROM:+0000
TZOFFSETTO:+0000
TZNAME:UTC
DTSTART:20150101T000000
END:STANDARD
END:VTIMEZONE
BEGIN:VEVENT
DTSTART;VALUE=DATE:20150111
DTEND;VALUE=DATE:20150112
DTSTAMP:20260423T024751
CREATED:20141226T152100Z
LAST-MODIFIED:20141226T152100Z
UID:4992-1420934400-1421020799@www.nakedmadrid.com
SUMMARY:6th Annual No Pants Subway Ride - Madrid 2015
DESCRIPTION:Since we call ourselves Naked Madrid\, publishing this event was the least we could do. For the 6th time in Madrid\, ‘No Pants Subway Ride’ is taking place on January 11th. If you’re on the metro that day and see a bunch of people with no pants on\, join them! We will. \nFor more information check their facebook event here
URL:https://www.nakedmadrid.com/event/6th-annual-no-pants-subway-ride-madrid-2015/
LOCATION:Metro Madrid\, Madrid\, Madrid\, Spain
CATEGORIES:Comedy
ATTACH;FMTTYPE=image/jpeg:https://www.nakedmadrid.com/wp-content/uploads/2014/12/no-pants-subway-ride-new-york-city-e1419272441559.jpg
END:VEVENT
END:VCALENDAR