BEGIN:VCALENDAR
VERSION:2.0
PRODID:-//Naked Madrid - ECPv5.2.1//NONSGML v1.0//EN
CALSCALE:GREGORIAN
METHOD:PUBLISH
X-WR-CALNAME:Naked Madrid
X-ORIGINAL-URL:https://www.nakedmadrid.com
X-WR-CALDESC:Events for Naked Madrid
BEGIN:VTIMEZONE
TZID:UTC
BEGIN:STANDARD
TZOFFSETFROM:+0000
TZOFFSETTO:+0000
TZNAME:UTC
DTSTART:20150101T000000
END:STANDARD
END:VTIMEZONE
BEGIN:VEVENT
DTSTART;VALUE=DATE:20150619
DTEND;VALUE=DATE:20150904
DTSTAMP:20260423T010623
CREATED:20150624T143504Z
LAST-MODIFIED:20150624T143504Z
UID:7101-1434672000-1441324799@www.nakedmadrid.com
SUMMARY:4€ movies at Cine Renoir in Plaza España
DESCRIPTION:Summer is here and Cines Renoir wants to give you the chance to see all the films you missed throughout the year\, or see them again. With its summer-long campaign called – “Missed it? smile!” – Renoir will be showing the best movies from last year: Boyhood\, Magical girl\, Foxcatcher\, and much more! For just 4€ each 🙂 \nStarting on June 19th to September 3rd\nCheck out the list of movie showings here
URL:https://www.nakedmadrid.com/event/4e-movies-at-cine-renoir-in-plaza-espana/
LOCATION:Cines Renoir\, C/ Martín de los Heros\, 12\, Madrid\, Madrid\, 28008\, Spain
CATEGORIES:Film
ATTACH;FMTTYPE=image/jpeg:https://www.nakedmadrid.com/wp-content/uploads/2015/06/Te-la-perdiste-Sonrie-2015.jpg
END:VEVENT
END:VCALENDAR