BEGIN:VCALENDAR
VERSION:2.0
PRODID:-//Naked Madrid - ECPv5.2.1//NONSGML v1.0//EN
CALSCALE:GREGORIAN
METHOD:PUBLISH
X-WR-CALNAME:Naked Madrid
X-ORIGINAL-URL:https://www.nakedmadrid.com
X-WR-CALDESC:Events for Naked Madrid
BEGIN:VTIMEZONE
TZID:UTC
BEGIN:STANDARD
TZOFFSETFROM:+0000
TZOFFSETTO:+0000
TZNAME:UTC
DTSTART:20140101T000000
END:STANDARD
END:VTIMEZONE
BEGIN:VEVENT
DTSTART;TZID=UTC:20141018T193000
DTEND;TZID=UTC:20141018T210000
DTSTAMP:20260423T042022
CREATED:20141018T133431Z
LAST-MODIFIED:20141018T134414Z
UID:3945-1413660600-1413666000@www.nakedmadrid.com
SUMMARY:Freshly Squeezed Comedy Show at The Beer Station (audience participation included)
DESCRIPTION:Here’s the perfect plan to start your Saturday night! On Oct. 18th at 7:30pm\, head over to the Beer Station for a night of comedy\, drinks and games. Madrid’s English-speaking comedy group — Freshly Comedy — is cutting up some fresh material for stand-up and prepping the fastest improv games around to drop another awesome night. Get your ticket through their web. \nThe organizers would also like you to know that:\n*There will be: jokes\, games\, booze\, audience participation\, fun\, laughs and so much more!! \n**There won’t be: illicit credit cards\, Andorran bank accounts\, massive hotels on the coast\, unused airports or government ministers (but mostly because of the language barrier)… \n  \n  \n 
URL:https://www.nakedmadrid.com/event/3945/
LOCATION:Beer Station\, Cuesta Santo Domingo 22\, Madrid
CATEGORIES:Comedy,Games
ATTACH;FMTTYPE=image/jpeg:https://www.nakedmadrid.com/wp-content/uploads/2014/10/tic_0_296.jpg
END:VEVENT
END:VCALENDAR